BEGIN:VCALENDAR
VERSION:2.0
PRODID:SchoolNow
CALSCALE:GREGORIAN
BEGIN:VEVENT
UID:58698514-22a9-11eb-8a35-129c177e9b71
DTSTAMP:20201109T163349Z
SUMMARY:Water Aerobics
LOCATION:Lap Pool
URL;VALUE=URI:https://www.wildernesslakecdd.org/calendar/2492924/water-aero
 bics
DTSTART:20201119T143000Z
DTEND:20201119T153000Z
END:VEVENT
END:VCALENDAR
