BEGIN:VCALENDAR
VERSION:2.0
PRODID:SchoolNow
CALSCALE:GREGORIAN
BEGIN:VEVENT
UID:3b052c9e-22a9-11eb-b3e7-129c177e9b71
DTSTAMP:20201109T163259Z
SUMMARY:Water Aerobics
LOCATION:Lap Pool
URL;VALUE=URI:https://www.wildernesslakecdd.org/calendar/2492905/water-aero
 bics
DTSTART:20201118T143000Z
DTEND:20201118T153000Z
END:VEVENT
END:VCALENDAR
