BEGIN:VCALENDAR
VERSION:2.0
PRODID:SchoolNow
CALSCALE:GREGORIAN
BEGIN:VEVENT
UID:1d5ed03c-22a9-11eb-9490-129c177e9b71
DTSTAMP:20201109T163210Z
SUMMARY:water Aerobics
LOCATION:Lap Pool
URL;VALUE=URI:https://www.wildernesslakecdd.org/calendar/2492900/water-aero
 bics
DTSTART:20201117T143000Z
DTEND:20201117T153000Z
END:VEVENT
END:VCALENDAR
