BEGIN:VCALENDAR
VERSION:2.0
PRODID:SchoolNow
CALSCALE:GREGORIAN
BEGIN:VEVENT
UID:7fd121d0-22a8-11eb-a6ef-0aeea56809b7
DTSTAMP:20201109T162745Z
SUMMARY:Water Aerobics
LOCATION:Lap Pool
URL;VALUE=URI:https://www.wildernesslakecdd.org/calendar/2492899/water-aero
 bics
DTSTART:20201116T143000Z
DTEND:20201116T153000Z
END:VEVENT
END:VCALENDAR
