BEGIN:VCALENDAR
VERSION:2.0
PRODID:SchoolNow
CALSCALE:GREGORIAN
BEGIN:VEVENT
UID:6634a698-22a8-11eb-8e69-0aeea56809b7
DTSTAMP:20201109T162702Z
SUMMARY:Water Aerobics
LOCATION:Lap Pool
URL;VALUE=URI:https://www.wildernesslakecdd.org/calendar/2492898/water-aero
 bics
DTSTART:20201113T143000Z
DTEND:20201113T153000Z
END:VEVENT
END:VCALENDAR
