BEGIN:VCALENDAR
VERSION:2.0
PRODID:SchoolNow
CALSCALE:GREGORIAN
BEGIN:VEVENT
UID:4c29c4e0-22a8-11eb-92c1-0aeea56809b7
DTSTAMP:20201109T162619Z
SUMMARY:Water Aerobics
LOCATION:Lap Pool
URL;VALUE=URI:https://www.wildernesslakecdd.org/calendar/2492897/water-aero
 bics
DTSTART:20201112T143000Z
DTEND:20201112T153000Z
END:VEVENT
END:VCALENDAR
