BEGIN:VCALENDAR
VERSION:2.0
PRODID:SchoolNow
CALSCALE:GREGORIAN
BEGIN:VEVENT
UID:280db698-22a8-11eb-ab6f-0aeea56809b7
DTSTAMP:20201109T162518Z
SUMMARY:Water Aerobics
LOCATION:Lap Pool
URL;VALUE=URI:https://www.wildernesslakecdd.org/calendar/2492892/water-aero
 bics
DTSTART:20201111T143000Z
DTEND:20201111T153000Z
END:VEVENT
END:VCALENDAR
