BEGIN:VCALENDAR
VERSION:2.0
PRODID:SchoolNow
CALSCALE:GREGORIAN
BEGIN:VEVENT
UID:07c70f38-22a8-11eb-a92f-0aeea56809b7
DTSTAMP:20201109T162424Z
SUMMARY:Water Aerobics
LOCATION:Lap Pool
URL;VALUE=URI:https://www.wildernesslakecdd.org/calendar/2492887/water-aero
 bics
DTSTART:20201110T143000Z
DTEND:20201110T153000Z
END:VEVENT
END:VCALENDAR
