BEGIN:VCALENDAR
VERSION:2.0
PRODID:SchoolNow
CALSCALE:GREGORIAN
BEGIN:VEVENT
UID:0f93ac18-22a7-11eb-889b-0aeea56809b7
DTSTAMP:20201109T161728Z
SUMMARY:Yoga
LOCATION:Activities Center
URL;VALUE=URI:https://www.wildernesslakecdd.org/calendar/2492885/yoga
DTSTART:20201124T134500Z
DTEND:20201124T151000Z
END:VEVENT
END:VCALENDAR
