BEGIN:VCALENDAR
VERSION:2.0
PRODID:SchoolNow
CALSCALE:GREGORIAN
BEGIN:VEVENT
UID:e47481c4-22a6-11eb-ad3f-0aeea56809b7
DTSTAMP:20201109T161615Z
SUMMARY:Yoga
LOCATION:Activities Center
URL;VALUE=URI:https://www.wildernesslakecdd.org/calendar/2492884/yoga
DTSTART:20201119T131500Z
DTEND:20201119T144500Z
END:VEVENT
END:VCALENDAR
