BEGIN:VCALENDAR
VERSION:2.0
PRODID:SchoolNow
CALSCALE:GREGORIAN
BEGIN:VEVENT
UID:bf7e8e8c-22a6-11eb-80e7-0aeea56809b7
DTSTAMP:20201109T162029Z
SUMMARY:Yoga
LOCATION:Activities Center
URL;VALUE=URI:https://www.wildernesslakecdd.org/calendar/2492883/yoga
DTSTART:20201117T134500Z
DTEND:20201117T151000Z
END:VEVENT
END:VCALENDAR
