BEGIN:VCALENDAR
VERSION:2.0
PRODID:SchoolNow
CALSCALE:GREGORIAN
BEGIN:VEVENT
UID:97bc1f7c-22a6-11eb-af86-0aeea56809b7
DTSTAMP:20201109T161407Z
SUMMARY:Yoga
LOCATION:Activities Center
URL;VALUE=URI:https://www.wildernesslakecdd.org/calendar/2492882/yoga
DTSTART:20201112T131500Z
DTEND:20201112T144500Z
END:VEVENT
END:VCALENDAR
