BEGIN:VCALENDAR
VERSION:2.0
PRODID:SchoolNow
CALSCALE:GREGORIAN
BEGIN:VEVENT
UID:5c0b74fa-22a6-11eb-8587-0aeea56809b7
DTSTAMP:20201109T161226Z
SUMMARY:Yoga
LOCATION:Activities Center
URL;VALUE=URI:https://www.wildernesslakecdd.org/calendar/2492881/yoga
DTSTART:20201110T134500Z
DTEND:20201110T151000Z
END:VEVENT
END:VCALENDAR
