BEGIN:VCALENDAR
VERSION:2.0
PRODID:SchoolNow
CALSCALE:GREGORIAN
BEGIN:VEVENT
UID:e2c7e27e-163c-11eb-b179-127587d0abc3
DTSTAMP:20201024T210712Z
SUMMARY:Boot Camp
LOCATION:Basketball Court
URL;VALUE=URI:https://www.wildernesslakecdd.org/calendar/2479945/boot-camp
DTSTART:20201028T130000Z
DTEND:20201028T140000Z
END:VEVENT
END:VCALENDAR
