BEGIN:VCALENDAR
VERSION:2.0
PRODID:SchoolNow
CALSCALE:GREGORIAN
BEGIN:VEVENT
UID:b55a44a8-163c-11eb-9d59-127587d0abc3
DTSTAMP:20201024T210556Z
SUMMARY:Boot Camp
LOCATION:Basketball Court
URL;VALUE=URI:https://www.wildernesslakecdd.org/calendar/2479944/boot-camp
DTSTART:20201026T130000Z
DTEND:20201026T140000Z
END:VEVENT
END:VCALENDAR
