BEGIN:VCALENDAR
VERSION:2.0
PRODID:SchoolNow
CALSCALE:GREGORIAN
BEGIN:VEVENT
UID:8203a59a-163c-11eb-902d-127587d0abc3
DTSTAMP:20201024T210430Z
SUMMARY:Walking\, Toning\, and Strength Class
LOCATION:Activities Center
URL;VALUE=URI:https://www.wildernesslakecdd.org/calendar/2479943/walking-to
 ning-and-strength-class
DTSTART:20201030T133000Z
DTEND:20201030T144500Z
END:VEVENT
END:VCALENDAR
