BEGIN:VCALENDAR
VERSION:2.0
PRODID:SchoolNow
CALSCALE:GREGORIAN
BEGIN:VEVENT
UID:a5a47ef8-163b-11eb-b56f-122bb646a27f
DTSTAMP:20201024T205905Z
SUMMARY:Walking\, Toning\, and Strength Class
LOCATION:Activities Center
URL;VALUE=URI:https://www.wildernesslakecdd.org/calendar/2479942/walking-to
 ning-and-strength-class
DTSTART:20201028T133000Z
DTEND:20201028T144500Z
END:VEVENT
END:VCALENDAR
