BEGIN:VCALENDAR
VERSION:2.0
PRODID:SchoolNow
CALSCALE:GREGORIAN
BEGIN:VEVENT
UID:2c03c504-163b-11eb-b71d-122bb646a27f
DTSTAMP:20201024T205620Z
SUMMARY:Yoga
LOCATION:Activities Center
URL;VALUE=URI:https://www.wildernesslakecdd.org/calendar/2479941/yoga
DTSTART:20201029T121500Z
DTEND:20201029T134500Z
END:VEVENT
END:VCALENDAR
