BEGIN:VCALENDAR
VERSION:2.0
PRODID:SchoolNow
CALSCALE:GREGORIAN
BEGIN:VEVENT
UID:ad951236-163a-11eb-bd5b-122bb646a27f
DTSTAMP:20201024T205839Z
SUMMARY:Walking\, Toning\, and Strength Class
LOCATION:Activities Center
URL;VALUE=URI:https://www.wildernesslakecdd.org/calendar/2479940/walking-to
 ning-and-strength-class
DTSTART:20201026T133000Z
DTEND:20201026T144500Z
END:VEVENT
END:VCALENDAR
