BEGIN:VCALENDAR
VERSION:2.0
PRODID:SchoolNow
CALSCALE:GREGORIAN
BEGIN:VEVENT
UID:29b622e8-163a-11eb-bb42-122bb646a27f
DTSTAMP:20201024T205644Z
SUMMARY:Yoga
LOCATION:Activities Center
URL;VALUE=URI:https://www.wildernesslakecdd.org/calendar/2479939/yoga
DTSTART:20201027T124500Z
DTEND:20201027T141000Z
END:VEVENT
END:VCALENDAR
