BEGIN:VCALENDAR
VERSION:2.0
PRODID:SchoolNow
CALSCALE:GREGORIAN
BEGIN:VEVENT
UID:e43943b2-1639-11eb-8658-122bb646a27f
DTSTAMP:20201024T204546Z
SUMMARY:Water Aerobics
LOCATION:Lap Pool
URL;VALUE=URI:https://www.wildernesslakecdd.org/calendar/2479938/water-aero
 bics
DTSTART:20201031T133000Z
DTEND:20201031T143000Z
END:VEVENT
END:VCALENDAR
