BEGIN:VCALENDAR
VERSION:2.0
PRODID:SchoolNow
CALSCALE:GREGORIAN
BEGIN:VEVENT
UID:be23c120-1639-11eb-95b2-122bb646a27f
DTSTAMP:20201024T204504Z
SUMMARY:Water Aerobics
LOCATION:Lap Pool
URL;VALUE=URI:https://www.wildernesslakecdd.org/calendar/2479937/water-aero
 bics
DTSTART:20201030T133000Z
DTEND:20201030T143000Z
END:VEVENT
END:VCALENDAR
