BEGIN:VCALENDAR
VERSION:2.0
PRODID:SchoolNow
CALSCALE:GREGORIAN
BEGIN:VEVENT
UID:a27eb48e-1639-11eb-8807-122bb646a27f
DTSTAMP:20201024T204356Z
SUMMARY:Water Aerobics
LOCATION:Lap Pool
URL;VALUE=URI:https://www.wildernesslakecdd.org/calendar/2479936/water-aero
 bics
DTSTART:20201029T133000Z
DTEND:20201029T143000Z
END:VEVENT
END:VCALENDAR
