BEGIN:VCALENDAR
VERSION:2.0
PRODID:SchoolNow
CALSCALE:GREGORIAN
BEGIN:VEVENT
UID:86a026b2-1639-11eb-ae52-122bb646a27f
DTSTAMP:20201024T204309Z
SUMMARY:Water Aerobics
URL;VALUE=URI:https://www.wildernesslakecdd.org/calendar/2479935/water-aero
 bics
DTSTART:20201028T133000Z
DTEND:20201028T143000Z
END:VEVENT
END:VCALENDAR
