BEGIN:VCALENDAR
VERSION:2.0
PRODID:SchoolNow
CALSCALE:GREGORIAN
BEGIN:VEVENT
UID:6ae1b5da-1639-11eb-84d2-122bb646a27f
DTSTAMP:20201024T204222Z
SUMMARY:Water Aerobics
LOCATION:Lap Pool
URL;VALUE=URI:https://www.wildernesslakecdd.org/calendar/2479934/water-aero
 bics
DTSTART:20201027T133000Z
DTEND:20201027T143000Z
END:VEVENT
END:VCALENDAR
