BEGIN:VCALENDAR
VERSION:2.0
PRODID:SchoolNow
CALSCALE:GREGORIAN
BEGIN:VEVENT
UID:4596cc20-1639-11eb-80d0-122bb646a27f
DTSTAMP:20201024T204120Z
SUMMARY:Water Aerobics
LOCATION:Lap Pool
URL;VALUE=URI:https://www.wildernesslakecdd.org/calendar/2479933/water-aero
 bics
DTSTART:20201026T133000Z
DTEND:20201026T143000Z
END:VEVENT
END:VCALENDAR
