BEGIN:VCALENDAR
VERSION:2.0
PRODID:SchoolNow
CALSCALE:GREGORIAN
BEGIN:VEVENT
UID:ed12d68e-1638-11eb-ad78-122bb646a27f
DTSTAMP:20201024T203851Z
SUMMARY:Best Decorated Halloween House Contest
URL;VALUE=URI:https://www.wildernesslakecdd.org/calendar/2479932/best-decor
 ated-halloween-house-contest
DTSTART:20201029T233000Z
DTEND:20201030T003000Z
END:VEVENT
END:VCALENDAR
