BEGIN:VCALENDAR
VERSION:2.0
PRODID:SchoolNow
CALSCALE:GREGORIAN
BEGIN:VEVENT
UID:42780768-043a-11eb-ac39-12999d2bd337
DTSTAMP:20201001T230303Z
SUMMARY:Boot Camp
LOCATION:Basketball Court
URL;VALUE=URI:https://www.wildernesslakecdd.org/calendar/2407681/boot-camp
DTSTART:20201007T130000Z
DTEND:20201007T140000Z
END:VEVENT
END:VCALENDAR
