BEGIN:VCALENDAR
VERSION:2.0
PRODID:SchoolNow
CALSCALE:GREGORIAN
BEGIN:VEVENT
UID:1ebd4b3a-043a-11eb-aa43-12999d2bd337
DTSTAMP:20201001T230203Z
SUMMARY:Boot Camp
LOCATION:Basketball Court
URL;VALUE=URI:https://www.wildernesslakecdd.org/calendar/2407680/boot-camp
DTSTART:20201005T130000Z
DTEND:20201005T140000Z
END:VEVENT
END:VCALENDAR
