BEGIN:VCALENDAR
VERSION:2.0
PRODID:SchoolNow
CALSCALE:GREGORIAN
BEGIN:VEVENT
UID:d6d28bd2-0439-11eb-8ddb-12999d2bd337
DTSTAMP:20201001T230002Z
SUMMARY:Yoga
LOCATION:Activities Center
URL;VALUE=URI:https://www.wildernesslakecdd.org/calendar/2407678/yoga
DTSTART:20201015T121500Z
DTEND:20201015T134500Z
END:VEVENT
END:VCALENDAR
