BEGIN:VCALENDAR
VERSION:2.0
PRODID:SchoolNow
CALSCALE:GREGORIAN
BEGIN:VEVENT
UID:b4ae4708-0439-11eb-8478-12999d2bd337
DTSTAMP:20201001T225905Z
SUMMARY:Yoga
LOCATION:Activities Center
URL;VALUE=URI:https://www.wildernesslakecdd.org/calendar/2407677/yoga
DTSTART:20201013T124500Z
DTEND:20201013T141000Z
END:VEVENT
END:VCALENDAR
