BEGIN:VCALENDAR
VERSION:2.0
PRODID:SchoolNow
CALSCALE:GREGORIAN
BEGIN:VEVENT
UID:8ebdd270-0439-11eb-9fec-12999d2bd337
DTSTAMP:20201001T225801Z
SUMMARY:Yoga
URL;VALUE=URI:https://www.wildernesslakecdd.org/calendar/2407676/yoga
DTSTART:20201008T121500Z
DTEND:20201008T134500Z
END:VEVENT
END:VCALENDAR
