BEGIN:VCALENDAR
VERSION:2.0
PRODID:SchoolNow
CALSCALE:GREGORIAN
BEGIN:VEVENT
UID:4a653028-0439-11eb-bf90-12999d2bd337
DTSTAMP:20201001T225607Z
SUMMARY:Yoga
LOCATION:Activities Center
URL;VALUE=URI:https://www.wildernesslakecdd.org/calendar/2407674/yoga
DTSTART:20201006T124500Z
DTEND:20201006T141000Z
END:VEVENT
END:VCALENDAR
