BEGIN:VCALENDAR
VERSION:2.0
PRODID:SchoolNow
CALSCALE:GREGORIAN
BEGIN:VEVENT
UID:dbd2131a-0438-11eb-9667-12999d2bd337
DTSTAMP:20201001T225301Z
SUMMARY:Walking\, Toning\, and Strength Class
URL;VALUE=URI:https://www.wildernesslakecdd.org/calendar/2407671/walking-to
 ning-and-strength-class
DTSTART:20201016T133000Z
DTEND:20201016T144500Z
END:VEVENT
END:VCALENDAR
