BEGIN:VCALENDAR
VERSION:2.0
PRODID:SchoolNow
CALSCALE:GREGORIAN
BEGIN:VEVENT
UID:bc239912-0438-11eb-88a9-12999d2bd337
DTSTAMP:20201001T225208Z
SUMMARY:Walking\, Toning\, and Strength Class
URL;VALUE=URI:https://www.wildernesslakecdd.org/calendar/2407670/walking-to
 ning-and-strength-class
DTSTART:20201014T133000Z
DTEND:20201014T144500Z
END:VEVENT
END:VCALENDAR
