BEGIN:VCALENDAR
VERSION:2.0
PRODID:SchoolNow
CALSCALE:GREGORIAN
BEGIN:VEVENT
UID:9e65e0c4-0438-11eb-b5c1-12999d2bd337
DTSTAMP:20201001T225118Z
SUMMARY:Walking\, Toning\, and Strength Class
URL;VALUE=URI:https://www.wildernesslakecdd.org/calendar/2407669/walking-to
 ning-and-strength-class
DTSTART:20201012T133000Z
DTEND:20201012T144500Z
END:VEVENT
END:VCALENDAR
