BEGIN:VCALENDAR
VERSION:2.0
PRODID:SchoolNow
CALSCALE:GREGORIAN
BEGIN:VEVENT
UID:7fb0993a-0438-11eb-ba29-12999d2bd337
DTSTAMP:20201001T225027Z
SUMMARY:Walking\, Toning\, and Strength Class
URL;VALUE=URI:https://www.wildernesslakecdd.org/calendar/2407668/walking-to
 ning-and-strength-class
DTSTART:20201009T133000Z
DTEND:20201009T144500Z
END:VEVENT
END:VCALENDAR
