BEGIN:VCALENDAR
VERSION:2.0
PRODID:SchoolNow
CALSCALE:GREGORIAN
BEGIN:VEVENT
UID:5e87bf68-0438-11eb-af86-12999d2bd337
DTSTAMP:20201001T224931Z
SUMMARY:Walking\, Toning and Strength Class
URL;VALUE=URI:https://www.wildernesslakecdd.org/calendar/2407666/walking-to
 ning-and-strength-class
DTSTART:20201007T133000Z
DTEND:20201007T144500Z
END:VEVENT
END:VCALENDAR
