BEGIN:VCALENDAR
VERSION:2.0
PRODID:SchoolNow
CALSCALE:GREGORIAN
BEGIN:VEVENT
UID:35a731c8-0438-11eb-b4b6-12999d2bd337
DTSTAMP:20201001T224822Z
SUMMARY:Walking\, Toning\, and Strength Class
URL;VALUE=URI:https://www.wildernesslakecdd.org/calendar/2407665/walking-to
 ning-and-strength-class
DTSTART:20201005T133000Z
DTEND:20201005T144500Z
END:VEVENT
END:VCALENDAR
