BEGIN:VCALENDAR
VERSION:2.0
PRODID:SchoolNow
CALSCALE:GREGORIAN
BEGIN:VEVENT
UID:1067d3d6-0438-11eb-b456-12999d2bd337
DTSTAMP:20201001T224837Z
SUMMARY:Walking\, Toning\, and Strength Class
LOCATION:Activities Center
URL;VALUE=URI:https://www.wildernesslakecdd.org/calendar/2407664/walking-to
 ning-and-strength-class
DTSTART:20201002T133000Z
DTEND:20201002T144500Z
END:VEVENT
END:VCALENDAR
