BEGIN:VCALENDAR
VERSION:2.0
PRODID:SchoolNow
CALSCALE:GREGORIAN
BEGIN:VEVENT
UID:ec9a6ce4-0346-11eb-875c-1256f18b931d
DTSTAMP:20200930T180111Z
SUMMARY:Water Aerobics
URL;VALUE=URI:https://www.wildernesslakecdd.org/calendar/2403341/water-aero
 bics
DTSTART:20201007T133000Z
DTEND:20201007T143000Z
END:VEVENT
END:VCALENDAR
