BEGIN:VCALENDAR
VERSION:2.0
PRODID:SchoolNow
CALSCALE:GREGORIAN
BEGIN:VEVENT
UID:c191f3f0-0346-11eb-a29f-1256f18b931d
DTSTAMP:20200930T175959Z
SUMMARY:Water Aerobics
URL;VALUE=URI:https://www.wildernesslakecdd.org/calendar/2403340/water-aero
 bics
DTSTART:20201001T133000Z
DTEND:20201001T143000Z
END:VEVENT
END:VCALENDAR
