BEGIN:VCALENDAR
VERSION:2.0
PRODID:SchoolNow
CALSCALE:GREGORIAN
BEGIN:VEVENT
UID:9c2b18bc-0346-11eb-bc02-1256f18b931d
DTSTAMP:20200930T175856Z
SUMMARY:Water Aerobics
LOCATION:Lap Pool
URL;VALUE=URI:https://www.wildernesslakecdd.org/calendar/2403339/water-aero
 bics
DTSTART:20201006T133000Z
DTEND:20201006T143000Z
END:VEVENT
END:VCALENDAR
