BEGIN:VCALENDAR
VERSION:2.0
PRODID:SchoolNow
CALSCALE:GREGORIAN
BEGIN:VEVENT
UID:68fd0b8a-0346-11eb-a748-1256f18b931d
DTSTAMP:20200930T175730Z
SUMMARY:Water Aerobics
LOCATION:Lap Pool
URL;VALUE=URI:https://www.wildernesslakecdd.org/calendar/2403266/water-aero
 bics
DTSTART:20201005T133000Z
DTEND:20201005T143000Z
END:VEVENT
END:VCALENDAR
