BEGIN:VCALENDAR
VERSION:2.0
PRODID:SchoolNow
CALSCALE:GREGORIAN
BEGIN:VEVENT
UID:47f3f516-0346-11eb-8429-1256f18b931d
DTSTAMP:20200930T175635Z
SUMMARY:Water Aerobics
LOCATION:Lap Pool
URL;VALUE=URI:https://www.wildernesslakecdd.org/calendar/2403265/water-aero
 bics
DTSTART:20201002T133000Z
DTEND:20201002T143000Z
END:VEVENT
END:VCALENDAR
