BEGIN:VCALENDAR
VERSION:2.0
PRODID:SchoolNow
CALSCALE:GREGORIAN
BEGIN:VEVENT
UID:24b4230a-0346-11eb-b150-1256f18b931d
DTSTAMP:20200930T175536Z
SUMMARY:Water Aerobics
LOCATION:Lap Pool
URL;VALUE=URI:https://www.wildernesslakecdd.org/calendar/2403264/water-aero
 bics
DTSTART:20200929T133000Z
DTEND:20200929T143000Z
END:VEVENT
END:VCALENDAR
