BEGIN:VCALENDAR
VERSION:2.0
PRODID:SchoolNow
CALSCALE:GREGORIAN
BEGIN:VEVENT
UID:65c44eb8-fb6e-11ea-bf40-12a07e44da85
DTSTAMP:20200920T182350Z
SUMMARY:Boot Camp
URL;VALUE=URI:https://www.wildernesslakecdd.org/calendar/2370286/boot-camp
DTSTART:20200924T130000Z
DTEND:20200924T140000Z
END:VEVENT
END:VCALENDAR
