BEGIN:VCALENDAR
VERSION:2.0
PRODID:SchoolNow
CALSCALE:GREGORIAN
BEGIN:VEVENT
UID:45dd4212-fb6e-11ea-9ac0-12a07e44da85
DTSTAMP:20200920T182410Z
SUMMARY:Boot Camp
URL;VALUE=URI:https://www.wildernesslakecdd.org/calendar/2370285/boot-camp
DTSTART:20200922T130000Z
DTEND:20200922T140000Z
END:VEVENT
END:VCALENDAR
