BEGIN:VCALENDAR
VERSION:2.0
PRODID:SchoolNow
CALSCALE:GREGORIAN
BEGIN:VEVENT
UID:afcc9a2a-fb6d-11ea-8937-12a07e44da85
DTSTAMP:20200920T181912Z
SUMMARY:Yoga
URL;VALUE=URI:https://www.wildernesslakecdd.org/calendar/2370284/yoga
DTSTART:20200924T121500Z
DTEND:20200924T134500Z
END:VEVENT
END:VCALENDAR
