BEGIN:VCALENDAR
VERSION:2.0
PRODID:SchoolNow
CALSCALE:GREGORIAN
BEGIN:VEVENT
UID:94032764-fb6d-11ea-ba8c-12a07e44da85
DTSTAMP:20200920T181931Z
SUMMARY:Yoga
URL;VALUE=URI:https://www.wildernesslakecdd.org/calendar/2370283/yoga
DTSTART:20200922T124500Z
DTEND:20200922T141500Z
END:VEVENT
END:VCALENDAR
